BEGIN:VCALENDAR
VERSION:2.0
CREATED:20260417T042544Z
PRODID:-//MSC Income Fund/Equisolve Calendar v1.0//EN
METHOD:PUBLISH
BEGIN:VEVENT
UID:92c15f1094ecb9ddd57e9f1a5e4866dd
DTSTAMP:20260423T083632Z
DTSTART:20260508T150000Z
DTEND:20260508T160000Z
SUMMARY:MSC Income Fund First Quarter 2026 Earnings Conference Call

DESCRIPTION:MSC Income Fund First Quarter 2026 Earnings Conference Call\n\nDate: May 8\, 2026 11:00 am EDT\n\nWebcast: https://app.webinar.net/pyaVJXrLDw1<strong>By Phone:</strong> Dial 412-902-0030 at least 10 minutes before the call.\n
A replay will be available through Friday\, May 15\, 2026 by dialing 201-612-7415 and using the access code 13759639#.\n

END:VEVENT
END:VCALENDAR
